BEGIN:VCALENDAR
VERSION:2.0
PRODID:-//P. G. Bell Children&#039;s Author - ECPv6.6.1//NONSGML v1.0//EN
CALSCALE:GREGORIAN
METHOD:PUBLISH
X-ORIGINAL-URL:https://www.pgbellwriter.com
X-WR-CALDESC:Events for P. G. Bell Children&#039;s Author
REFRESH-INTERVAL;VALUE=DURATION:PT1H
X-Robots-Tag:noindex
X-PUBLISHED-TTL:PT1H
BEGIN:VTIMEZONE
TZID:Europe/London
BEGIN:DAYLIGHT
TZOFFSETFROM:+0000
TZOFFSETTO:+0100
TZNAME:BST
DTSTART:20240331T010000
END:DAYLIGHT
BEGIN:STANDARD
TZOFFSETFROM:+0100
TZOFFSETTO:+0000
TZNAME:GMT
DTSTART:20241027T010000
END:STANDARD
BEGIN:DAYLIGHT
TZOFFSETFROM:+0000
TZOFFSETTO:+0100
TZNAME:BST
DTSTART:20250330T010000
END:DAYLIGHT
BEGIN:STANDARD
TZOFFSETFROM:+0100
TZOFFSETTO:+0000
TZNAME:GMT
DTSTART:20251026T010000
END:STANDARD
END:VTIMEZONE
BEGIN:VEVENT
DTSTART;TZID=Europe/London:20240929T130000
DTEND;TZID=Europe/London:20240929T140000
DTSTAMP:20260423T084035
CREATED:20240515T130330Z
LAST-MODIFIED:20240515T131301Z
UID:19320-1727614800-1727618400@www.pgbellwriter.com
SUMMARY:Bath Children's Literature Festival - Once Upon a Murder
DESCRIPTION:Turn detective with P.G. Bell\, bestselling author of The Train to Impossible Places series\, as he adds some foul play to a classic fairy tale. Learn how his new whodunnit\, The Beanstalk Murder\, puts a witchy twist on the world of Jack & the Beanstalk; how the book came to life in an old Cardiff stable yard; and how to cast some authentic Welsh spells! (Results not guaranteed.) \nP.G. then invites you to re-imagine some of your favourite fairytales as murder mysteries – choose your victim\, nominate a detective\, and follow the clues to the solution! The event concludes with a Q&A session – your chance to really put P.G. on the spot. \nSuitable for ages 6+
URL:https://www.pgbellwriter.com/event/bath-childrens-literature-festival-once-upon-a-murder/
CATEGORIES:Book festival
END:VEVENT
BEGIN:VEVENT
DTSTART;TZID=Europe/London:20251115T133000
DTEND;TZID=Europe/London:20251115T143000
DTSTAMP:20260423T084035
CREATED:20251007T163047Z
LAST-MODIFIED:20251007T163047Z
UID:22416-1763213400-1763217000@www.pgbellwriter.com
SUMMARY:The Big Bad Wolf Murder signing - Wellfield Bookshop\, Cardiff
DESCRIPTION:Join me in Cardiff’s Wellfield Bookshop for a chat\, a cup of tea\, and a book signing.
URL:https://www.pgbellwriter.com/event/the-big-bad-wolf-murder-signing-wellfield-bookshop-cardiff/
CATEGORIES:Book signing
END:VEVENT
END:VCALENDAR